Package: lfa Version: 2.7.0 Command: rm -rf lfa.buildbin-libdir && mkdir lfa.buildbin-libdir && E:\biocbuild\bbs-3.21-bioc\R\bin\R.exe CMD INSTALL --build --library=lfa.buildbin-libdir lfa_2.7.0.tar.gz StartedAt: 2025-02-19 07:43:42 -0500 (Wed, 19 Feb 2025) EndedAt: 2025-02-19 07:43:59 -0500 (Wed, 19 Feb 2025) EllapsedTime: 17.1 seconds RetCode: 0 Status: OK PackageFile: lfa_2.7.0.zip PackageFileSize: 522.1 KiB