Package: lfa Version: 2.7.0 Command: /home/biocbuild/bbs-3.21-bioc/R/bin/R CMD INSTALL lfa StartedAt: 2025-02-18 15:04:10 -0500 (Tue, 18 Feb 2025) EndedAt: 2025-02-18 15:04:20 -0500 (Tue, 18 Feb 2025) EllapsedTime: 9.6 seconds RetCode: 0 Status: OK