Package: lfa Version: 2.7.0 Command: /home/biocbuild/bbs-3.21-bioc/R/bin/R CMD build --keep-empty-dirs --no-resave-data lfa StartedAt: 2025-02-18 17:45:45 -0500 (Tue, 18 Feb 2025) EndedAt: 2025-02-18 17:45:54 -0500 (Tue, 18 Feb 2025) EllapsedTime: 9.0 seconds RetCode: 0 Status: OK PackageFile: lfa_2.7.0.tar.gz PackageFileSize: 341.2 KiB