Package: lfa Version: 2.7.0 Command: /Library/Frameworks/R.framework/Resources/bin/R CMD build --keep-empty-dirs --no-resave-data lfa StartedAt: 2025-02-18 16:46:45 -0500 (Tue, 18 Feb 2025) EndedAt: 2025-02-18 16:46:51 -0500 (Tue, 18 Feb 2025) EllapsedTime: 6.1 seconds RetCode: 0 Status: OK PackageFile: lfa_2.7.0.tar.gz PackageFileSize: 341.2 KiB