Package: levi Version: 1.25.0 Command: rm -rf levi.buildbin-libdir && mkdir levi.buildbin-libdir && E:\biocbuild\bbs-3.21-bioc\R\bin\R.exe CMD INSTALL --build --library=levi.buildbin-libdir levi_1.25.0.tar.gz StartedAt: 2025-02-19 07:43:41 -0500 (Wed, 19 Feb 2025) EndedAt: 2025-02-19 07:44:10 -0500 (Wed, 19 Feb 2025) EllapsedTime: 29.4 seconds RetCode: 0 Status: OK PackageFile: levi_1.25.0.zip PackageFileSize: 2.553 MiB