Package: levi Version: 1.25.0 Command: /Library/Frameworks/R.framework/Resources/bin/R CMD build --keep-empty-dirs --no-resave-data levi StartedAt: 2025-02-18 17:08:05 -0500 (Tue, 18 Feb 2025) EndedAt: 2025-02-18 17:10:08 -0500 (Tue, 18 Feb 2025) EllapsedTime: 123.6 seconds RetCode: 0 Status: OK PackageFile: levi_1.25.0.tar.gz PackageFileSize: 2.781 MiB