Package: les Version: 1.57.0 Command: rm -rf les.buildbin-libdir && mkdir les.buildbin-libdir && E:\biocbuild\bbs-3.21-bioc\R\bin\R.exe CMD INSTALL --build --library=les.buildbin-libdir les_1.57.0.tar.gz StartedAt: 2025-02-21 08:24:25 -0500 (Fri, 21 Feb 2025) EndedAt: 2025-02-21 08:24:47 -0500 (Fri, 21 Feb 2025) EllapsedTime: 22.1 seconds RetCode: 0 Status: OK PackageFile: les_1.57.0.zip PackageFileSize: 570.6 KiB