Package: les Version: 1.57.0 Command: /home/biocbuild/bbs-3.21-bioc/R/bin/R CMD INSTALL les StartedAt: 2025-02-20 15:06:30 -0500 (Thu, 20 Feb 2025) EndedAt: 2025-02-20 15:06:35 -0500 (Thu, 20 Feb 2025) EllapsedTime: 4.8 seconds RetCode: 0 Status: OK