Package: les Version: 1.57.0 Command: /home/biocbuild/bbs-3.21-bioc/R/bin/R CMD check --install=check:les.install-out.txt --library=/home/biocbuild/bbs-3.21-bioc/R/site-library --timings les_1.57.0.tar.gz StartedAt: 2025-02-20 23:08:03 -0500 (Thu, 20 Feb 2025) EndedAt: 2025-02-20 23:08:55 -0500 (Thu, 20 Feb 2025) EllapsedTime: 51.1 seconds RetCode: 0 Status: OK CheckDir: les.Rcheck Warnings: 0