Package: les Version: 1.57.0 Command: /Library/Frameworks/R.framework/Resources/bin/R CMD INSTALL les StartedAt: 2025-02-20 15:04:40 -0500 (Thu, 20 Feb 2025) EndedAt: 2025-02-20 15:04:49 -0500 (Thu, 20 Feb 2025) EllapsedTime: 8.7 seconds RetCode: 0 Status: OK