Package: les Version: 1.57.0 Command: /Library/Frameworks/R.framework/Resources/bin/R CMD build --keep-empty-dirs --no-resave-data les StartedAt: 2025-02-20 17:09:30 -0500 (Thu, 20 Feb 2025) EndedAt: 2025-02-20 17:09:54 -0500 (Thu, 20 Feb 2025) EllapsedTime: 24.0 seconds RetCode: 0 Status: OK PackageFile: les_1.57.0.tar.gz PackageFileSize: 449 KiB