Package: lemur Version: 1.5.0 Command: chmod a+r lemur -R && E:\biocbuild\bbs-3.21-bioc\R\bin\R.exe CMD build --keep-empty-dirs --no-resave-data lemur StartedAt: 2025-02-18 19:31:02 -0500 (Tue, 18 Feb 2025) EndedAt: 2025-02-18 19:33:33 -0500 (Tue, 18 Feb 2025) EllapsedTime: 151.8 seconds RetCode: 0 Status: OK PackageFile: lemur_1.5.0.tar.gz PackageFileSize: 3.336 MiB