Package: lemur Version: 1.5.0 Command: /Library/Frameworks/R.framework/Resources/bin/R CMD INSTALL lemur StartedAt: 2025-02-18 15:13:47 -0500 (Tue, 18 Feb 2025) EndedAt: 2025-02-18 15:14:38 -0500 (Tue, 18 Feb 2025) EllapsedTime: 51.4 seconds RetCode: 0 Status: OK