Package: lefser Version: 1.17.4 Command: chmod a+r lefser -R && E:\biocbuild\bbs-3.21-bioc\R\bin\R.exe CMD build --keep-empty-dirs --no-resave-data lefser StartedAt: 2025-02-18 19:31:01 -0500 (Tue, 18 Feb 2025) EndedAt: 2025-02-18 19:32:12 -0500 (Tue, 18 Feb 2025) EllapsedTime: 71.0 seconds RetCode: 0 Status: OK PackageFile: lefser_1.17.4.tar.gz PackageFileSize: 518.5 KiB