Package: lefser Version: 1.17.6 Command: /home/biocbuild/bbs-3.21-bioc/R/bin/R CMD build --keep-empty-dirs --no-resave-data lefser StartedAt: 2025-02-20 17:58:37 -0500 (Thu, 20 Feb 2025) EndedAt: 2025-02-20 17:59:25 -0500 (Thu, 20 Feb 2025) EllapsedTime: 48.1 seconds RetCode: 0 Status: OK PackageFile: lefser_1.17.6.tar.gz PackageFileSize: 601.2 KiB