Package: lefser Version: 1.17.4 Command: /Library/Frameworks/R.framework/Resources/bin/R CMD INSTALL lefser StartedAt: 2025-02-18 15:40:13 -0500 (Tue, 18 Feb 2025) EndedAt: 2025-02-18 15:40:47 -0500 (Tue, 18 Feb 2025) EllapsedTime: 34.0 seconds RetCode: 0 Status: OK