Package: lefser Version: 1.17.4 Command: /Library/Frameworks/R.framework/Resources/bin/R CMD check --install=check:lefser.install-out.txt --library=/Library/Frameworks/R.framework/Resources/library --no-vignettes --timings lefser_1.17.4.tar.gz StartedAt: 2025-02-18 21:10:46 -0500 (Tue, 18 Feb 2025) EndedAt: 2025-02-18 21:15:41 -0500 (Tue, 18 Feb 2025) EllapsedTime: 295.0 seconds RetCode: 0 Status: WARNINGS CheckDir: lefser.Rcheck Warnings: 1