Package: lefser Version: 1.17.4 Command: rm -rf lefser.buildbin-libdir && mkdir lefser.buildbin-libdir && /Users/biocbuild/BBS/utils/build-universal.sh lefser_1.17.4.tar.gz /Library/Frameworks/R.framework/Resources/bin/R lefser.buildbin-libdir StartedAt: 2025-02-18 22:26:21 -0500 (Tue, 18 Feb 2025) EndedAt: 2025-02-18 22:26:33 -0500 (Tue, 18 Feb 2025) EllapsedTime: 11.3 seconds RetCode: 0 Status: OK PackageFile: lefser_1.17.4.tgz PackageFileSize: 669.6 KiB