Package: ldblock Version: 1.37.0 Command: E:\biocbuild\bbs-3.21-bioc\R\bin\R.exe CMD check --no-multiarch --install=check:ldblock.install-out.txt --library=E:\biocbuild\bbs-3.21-bioc\R\library --no-vignettes --timings ldblock_1.37.0.tar.gz StartedAt: 2025-02-21 02:39:38 -0500 (Fri, 21 Feb 2025) EndedAt: 2025-02-21 02:41:23 -0500 (Fri, 21 Feb 2025) EllapsedTime: 105.3 seconds RetCode: 0 Status: OK CheckDir: ldblock.Rcheck Warnings: 0