Package: ldblock Version: 1.37.0 Command: rm -rf ldblock.buildbin-libdir && mkdir ldblock.buildbin-libdir && E:\biocbuild\bbs-3.21-bioc\R\bin\R.exe CMD INSTALL --build --library=ldblock.buildbin-libdir ldblock_1.37.0.tar.gz StartedAt: 2025-02-21 08:24:16 -0500 (Fri, 21 Feb 2025) EndedAt: 2025-02-21 08:24:42 -0500 (Fri, 21 Feb 2025) EllapsedTime: 26.4 seconds RetCode: 0 Status: OK PackageFile: ldblock_1.37.0.zip PackageFileSize: 40.17 MiB