Package: ldblock Version: 1.37.0 Command: /home/biocbuild/bbs-3.21-bioc/R/bin/R CMD INSTALL ldblock StartedAt: 2025-02-20 15:20:40 -0500 (Thu, 20 Feb 2025) EndedAt: 2025-02-20 15:20:46 -0500 (Thu, 20 Feb 2025) EllapsedTime: 5.7 seconds RetCode: 0 Status: OK