Package: ldblock Version: 1.37.0 Command: /home/biocbuild/bbs-3.21-bioc/R/bin/R CMD check --install=check:ldblock.install-out.txt --library=/home/biocbuild/bbs-3.21-bioc/R/site-library --timings ldblock_1.37.0.tar.gz StartedAt: 2025-02-21 23:29:11 -0500 (Fri, 21 Feb 2025) EndedAt: 2025-02-21 23:31:04 -0500 (Fri, 21 Feb 2025) EllapsedTime: 113.2 seconds RetCode: 0 Status: OK CheckDir: ldblock.Rcheck Warnings: 0