Package: ldblock Version: 1.37.0 Command: /Library/Frameworks/R.framework/Resources/bin/R CMD check --install=check:ldblock.install-out.txt --library=/Library/Frameworks/R.framework/Resources/library --no-vignettes --timings ldblock_1.37.0.tar.gz StartedAt: 2025-02-20 21:15:59 -0500 (Thu, 20 Feb 2025) EndedAt: 2025-02-20 21:17:37 -0500 (Thu, 20 Feb 2025) EllapsedTime: 97.6 seconds RetCode: 0 Status: OK CheckDir: ldblock.Rcheck Warnings: 0