Package: ldblock Version: 1.37.0 Command: rm -rf ldblock.buildbin-libdir && mkdir ldblock.buildbin-libdir && /Users/biocbuild/BBS/utils/build-universal.sh ldblock_1.37.0.tar.gz /Library/Frameworks/R.framework/Resources/bin/R ldblock.buildbin-libdir StartedAt: 2025-02-21 00:37:15 -0500 (Fri, 21 Feb 2025) EndedAt: 2025-02-21 00:37:31 -0500 (Fri, 21 Feb 2025) EllapsedTime: 16.1 seconds RetCode: 0 Status: OK PackageFile: ldblock_1.37.0.tgz PackageFileSize: 40.29 MiB