Package: ldblock Version: 1.37.0 Command: /Library/Frameworks/R.framework/Resources/bin/R CMD build --keep-empty-dirs --no-resave-data ldblock StartedAt: 2025-02-20 16:46:16 -0500 (Thu, 20 Feb 2025) EndedAt: 2025-02-20 16:46:35 -0500 (Thu, 20 Feb 2025) EllapsedTime: 19.2 seconds RetCode: 0 Status: OK PackageFile: ldblock_1.37.0.tar.gz PackageFileSize: 40.13 MiB