Package: lapmix Version: 1.73.0 Command: E:\biocbuild\bbs-3.21-bioc\R\bin\R.exe CMD INSTALL lapmix StartedAt: 2025-02-17 15:27:51 -0500 (Mon, 17 Feb 2025) EndedAt: 2025-02-17 15:27:59 -0500 (Mon, 17 Feb 2025) EllapsedTime: 8.4 seconds RetCode: 1 Status: ERROR