Package: lapmix Version: 1.73.0 Command: /Library/Frameworks/R.framework/Resources/bin/R CMD build --keep-empty-dirs --no-resave-data lapmix StartedAt: 2025-02-17 17:08:01 -0500 (Mon, 17 Feb 2025) EndedAt: 2025-02-17 17:08:03 -0500 (Mon, 17 Feb 2025) EllapsedTime: 2.3 seconds RetCode: 1 Status: ERROR PackageFile: None PackageFileSize: NA