Package: koinar Version: 1.1.2 Command: /home/biocbuild/bbs-3.21-bioc/R/bin/R CMD INSTALL koinar StartedAt: 2025-02-19 15:04:36 -0500 (Wed, 19 Feb 2025) EndedAt: 2025-02-19 15:04:51 -0500 (Wed, 19 Feb 2025) EllapsedTime: 15.2 seconds RetCode: 0 Status: OK