Package: koinar Version: 1.1.2 Command: rm -rf koinar.buildbin-libdir && mkdir koinar.buildbin-libdir && /Users/biocbuild/BBS/utils/build-universal.sh koinar_1.1.2.tar.gz /Library/Frameworks/R.framework/Resources/bin/R koinar.buildbin-libdir StartedAt: 2025-02-21 00:37:13 -0500 (Fri, 21 Feb 2025) EndedAt: 2025-02-21 00:37:19 -0500 (Fri, 21 Feb 2025) EllapsedTime: 5.6 seconds RetCode: 0 Status: OK PackageFile: koinar_1.1.2.tgz PackageFileSize: 1.213 MiB