Package: koinar Version: 1.1.2 Command: /Library/Frameworks/R.framework/Resources/bin/R CMD INSTALL koinar StartedAt: 2025-02-20 15:03:48 -0500 (Thu, 20 Feb 2025) EndedAt: 2025-02-20 15:03:50 -0500 (Thu, 20 Feb 2025) EllapsedTime: 2.3 seconds RetCode: 0 Status: OK