Package: koinar Version: 1.1.2 Command: /Library/Frameworks/R.framework/Resources/bin/R CMD check --install=check:koinar.install-out.txt --library=/Library/Frameworks/R.framework/Resources/library --no-vignettes --timings koinar_1.1.2.tar.gz StartedAt: 2025-02-20 19:54:06 -0500 (Thu, 20 Feb 2025) EndedAt: 2025-02-20 19:54:21 -0500 (Thu, 20 Feb 2025) EllapsedTime: 15.2 seconds RetCode: 0 Status: OK CheckDir: koinar.Rcheck Warnings: 0