Package: knowYourCG Version: 1.3.15 Command: /home/biocbuild/bbs-3.21-bioc/R/bin/R CMD build --keep-empty-dirs --no-resave-data knowYourCG StartedAt: 2025-02-18 17:45:04 -0500 (Tue, 18 Feb 2025) EndedAt: 2025-02-18 17:47:07 -0500 (Tue, 18 Feb 2025) EllapsedTime: 123.2 seconds RetCode: 0 Status: OK PackageFile: knowYourCG_1.3.15.tar.gz PackageFileSize: 14.49 MiB