Package: knowYourCG Version: 1.3.15 Command: /Library/Frameworks/R.framework/Resources/bin/R CMD build --keep-empty-dirs --no-resave-data knowYourCG StartedAt: 2025-02-18 17:07:34 -0500 (Tue, 18 Feb 2025) EndedAt: 2025-02-18 17:10:05 -0500 (Tue, 18 Feb 2025) EllapsedTime: 151.0 seconds RetCode: 0 Status: OK PackageFile: knowYourCG_1.3.15.tar.gz PackageFileSize: 14.5 MiB