Package: knowYourCG Version: 1.3.15 Command: rm -rf knowYourCG.buildbin-libdir && mkdir knowYourCG.buildbin-libdir && /Users/biocbuild/BBS/utils/build-universal.sh knowYourCG_1.3.15.tar.gz /Library/Frameworks/R.framework/Resources/bin/R knowYourCG.buildbin-libdir StartedAt: 2025-02-20 22:23:36 -0500 (Thu, 20 Feb 2025) EndedAt: 2025-02-20 22:23:47 -0500 (Thu, 20 Feb 2025) EllapsedTime: 11.2 seconds RetCode: 0 Status: OK PackageFile: knowYourCG_1.3.15.tgz PackageFileSize: 13.19 MiB