Package: kmcut Version: 1.1.0 Command: E:\biocbuild\bbs-3.21-bioc\R\bin\R.exe CMD INSTALL kmcut StartedAt: 2025-02-20 16:09:10 -0500 (Thu, 20 Feb 2025) EndedAt: 2025-02-20 16:09:38 -0500 (Thu, 20 Feb 2025) EllapsedTime: 28.3 seconds RetCode: 0 Status: OK