Package: kmcut Version: 1.1.0 Command: /home/biocbuild/bbs-3.21-bioc/R/bin/R CMD check --install=check:kmcut.install-out.txt --library=/home/biocbuild/bbs-3.21-bioc/R/site-library --timings kmcut_1.1.0.tar.gz StartedAt: 2025-02-20 23:05:59 -0500 (Thu, 20 Feb 2025) EndedAt: 2025-02-20 23:08:35 -0500 (Thu, 20 Feb 2025) EllapsedTime: 155.2 seconds RetCode: 0 Status: OK CheckDir: kmcut.Rcheck Warnings: 0