Package: kmcut Version: 1.1.0 Command: /Library/Frameworks/R.framework/Resources/bin/R CMD build --keep-empty-dirs --no-resave-data kmcut StartedAt: 2025-02-20 17:09:02 -0500 (Thu, 20 Feb 2025) EndedAt: 2025-02-20 17:09:48 -0500 (Thu, 20 Feb 2025) EllapsedTime: 45.8 seconds RetCode: 0 Status: OK PackageFile: kmcut_1.1.0.tar.gz PackageFileSize: 1.26 MiB