Package: kmcut Version: 1.1.0 Command: rm -rf kmcut.buildbin-libdir && mkdir kmcut.buildbin-libdir && /Users/biocbuild/BBS/utils/build-universal.sh kmcut_1.1.0.tar.gz /Library/Frameworks/R.framework/Resources/bin/R kmcut.buildbin-libdir StartedAt: 2025-02-21 00:37:12 -0500 (Fri, 21 Feb 2025) EndedAt: 2025-02-21 00:37:44 -0500 (Fri, 21 Feb 2025) EllapsedTime: 32.3 seconds RetCode: 0 Status: OK PackageFile: kmcut_1.1.0.tgz PackageFileSize: 1.279 MiB