Package: kmcut Version: 1.1.0 Command: /home/biocbuild/R/R/bin/R CMD check --install=check:kmcut.install-out.txt --library=/home/biocbuild/R/R/site-library --no-vignettes --timings kmcut_1.1.0.tar.gz StartedAt: 2025-01-28 11:52:23 -0000 (Tue, 28 Jan 2025) EndedAt: 2025-01-28 11:55:27 -0000 (Tue, 28 Jan 2025) EllapsedTime: 184.3 seconds RetCode: 0 Status: OK CheckDir: kmcut.Rcheck Warnings: 0