Package: kmcut Version: 1.1.0 Command: /Library/Frameworks/R.framework/Resources/bin/R CMD INSTALL kmcut StartedAt: 2025-02-20 15:21:48 -0500 (Thu, 20 Feb 2025) EndedAt: 2025-02-20 15:21:57 -0500 (Thu, 20 Feb 2025) EllapsedTime: 9.3 seconds RetCode: 0 Status: OK