Package: kmcut Version: 1.1.0 Command: /Library/Frameworks/R.framework/Resources/bin/R CMD build --keep-empty-dirs --no-resave-data kmcut StartedAt: 2025-02-20 16:46:05 -0500 (Thu, 20 Feb 2025) EndedAt: 2025-02-20 16:46:20 -0500 (Thu, 20 Feb 2025) EllapsedTime: 15.2 seconds RetCode: 0 Status: OK PackageFile: kmcut_1.1.0.tar.gz PackageFileSize: 1.259 MiB