Package: kissDE Version: 1.27.0 Command: /home/biocbuild/bbs-3.21-bioc/R/bin/R CMD build --keep-empty-dirs --no-resave-data kissDE StartedAt: 2025-02-18 17:44:55 -0500 (Tue, 18 Feb 2025) EndedAt: 2025-02-18 17:46:48 -0500 (Tue, 18 Feb 2025) EllapsedTime: 113.2 seconds RetCode: 0 Status: OK PackageFile: kissDE_1.27.0.tar.gz PackageFileSize: 855.3 KiB