Package: kissDE Version: 1.27.0 Command: /home/biocbuild/R/R/bin/R CMD check --install=check:kissDE.install-out.txt --library=/home/biocbuild/R/R/site-library --no-vignettes --timings kissDE_1.27.0.tar.gz StartedAt: 2025-01-28 11:52:13 -0000 (Tue, 28 Jan 2025) EndedAt: 2025-01-28 12:00:56 -0000 (Tue, 28 Jan 2025) EllapsedTime: 522.8 seconds RetCode: 0 Status: OK CheckDir: kissDE.Rcheck Warnings: 0