Package: kissDE Version: 1.27.0 Command: /Library/Frameworks/R.framework/Resources/bin/R CMD INSTALL kissDE StartedAt: 2025-02-18 15:28:59 -0500 (Tue, 18 Feb 2025) EndedAt: 2025-02-18 15:29:17 -0500 (Tue, 18 Feb 2025) EllapsedTime: 17.6 seconds RetCode: 0 Status: OK