Package: keggorthology Version: 2.59.0 Command: E:\biocbuild\bbs-3.21-bioc\R\bin\R.exe CMD INSTALL keggorthology StartedAt: 2025-02-19 15:43:09 -0500 (Wed, 19 Feb 2025) EndedAt: 2025-02-19 15:43:29 -0500 (Wed, 19 Feb 2025) EllapsedTime: 19.5 seconds RetCode: 0 Status: OK