Package: keggorthology Version: 2.59.0 Command: E:\biocbuild\bbs-3.21-bioc\R\bin\R.exe CMD check --no-multiarch --install=check:keggorthology.install-out.txt --library=E:\biocbuild\bbs-3.21-bioc\R\library --no-vignettes --timings keggorthology_2.59.0.tar.gz StartedAt: 2025-02-20 02:22:55 -0500 (Thu, 20 Feb 2025) EndedAt: 2025-02-20 02:24:53 -0500 (Thu, 20 Feb 2025) EllapsedTime: 118.0 seconds RetCode: 0 Status: OK CheckDir: keggorthology.Rcheck Warnings: 0