Package: keggorthology Version: 2.59.0 Command: chmod a+r keggorthology -R && E:\biocbuild\bbs-3.21-bioc\R\bin\R.exe CMD build --keep-empty-dirs --no-resave-data keggorthology StartedAt: 2025-02-19 19:33:37 -0500 (Wed, 19 Feb 2025) EndedAt: 2025-02-19 19:34:24 -0500 (Wed, 19 Feb 2025) EllapsedTime: 46.2 seconds RetCode: 0 Status: OK PackageFile: keggorthology_2.59.0.tar.gz PackageFileSize: 655.9 KiB