Package: keggorthology Version: 2.59.0 Command: /home/biocbuild/bbs-3.21-bioc/R/bin/R CMD build --keep-empty-dirs --no-resave-data keggorthology StartedAt: 2025-02-19 17:49:23 -0500 (Wed, 19 Feb 2025) EndedAt: 2025-02-19 17:49:45 -0500 (Wed, 19 Feb 2025) EllapsedTime: 22.0 seconds RetCode: 0 Status: OK PackageFile: keggorthology_2.59.0.tar.gz PackageFileSize: 787.8 KiB