Package: keggorthology Version: 2.59.0 Command: /Library/Frameworks/R.framework/Resources/bin/R CMD INSTALL keggorthology StartedAt: 2025-02-20 15:16:37 -0500 (Thu, 20 Feb 2025) EndedAt: 2025-02-20 15:16:56 -0500 (Thu, 20 Feb 2025) EllapsedTime: 18.9 seconds RetCode: 0 Status: OK