Package: keggorthology Version: 2.59.0 Command: /Library/Frameworks/R.framework/Resources/bin/R CMD build --keep-empty-dirs --no-resave-data keggorthology StartedAt: 2025-02-20 17:08:45 -0500 (Thu, 20 Feb 2025) EndedAt: 2025-02-20 17:09:11 -0500 (Thu, 20 Feb 2025) EllapsedTime: 26.3 seconds RetCode: 0 Status: OK PackageFile: keggorthology_2.59.0.tar.gz PackageFileSize: 787.2 KiB